BEGIN:VCALENDAR
VERSION:2.0
PRODID:-//geocaching.sk//GCEVENTS//SK
CALSCALE:GREGORIAN
METHOD:PUBLISH
BEGIN:VEVENT
UID:GCBHZ9D@geocaching.sk
DTSTAMP:20260425T153211Z
DTSTART:20260613T133000Z
DTEND:20260613T190000Z
SUMMARY:Aftepárty KzK [GCBHZ9D]
DESCRIPTION:Aftepárty KzK\\nOrganizátor: vončo\\nTyp: Event Cache\\nKraj: Banskobystrický kraj\\nSúradnice: N48.7055000° E18.9948330°\\n\\nhttps://coord.info/GCBHZ9D
LOCATION:Banskobystrický kraj
GEO:48.7055000;18.9948330
URL:https://coord.info/GCBHZ9D
STATUS:CONFIRMED
CATEGORIES:Geocaching,Event
END:VEVENT
END:VCALENDAR
