BEGIN:VCALENDAR
VERSION:2.0
PRODID:-//geocaching.sk//GCEVENTS//SK
CALSCALE:GREGORIAN
METHOD:PUBLISH
BEGIN:VEVENT
UID:GCBHTE4@geocaching.sk
DTSTAMP:20260425T153607Z
DTSTART:20260608T160000Z
DTEND:20260608T163000Z
SUMMARY:Tento II pondelok v mesiaci JÚN [GCBHTE4]
DESCRIPTION:Tento II pondelok v mesiaci JÚN\\nOrganizátor: Muslofon\\nTyp: Event Cache\\nKraj: Bratislavský kraj\\nSúradnice: N48.1577220° E17.0978060°\\n\\nhttps://coord.info/GCBHTE4
LOCATION:Bratislavský kraj
GEO:48.1577220;17.0978060
URL:https://coord.info/GCBHTE4
STATUS:CONFIRMED
CATEGORIES:Geocaching,Event
END:VEVENT
END:VCALENDAR
