BEGIN:VCALENDAR
VERSION:2.0
PRODID:-//geocaching.sk//GCEVENTS//SK
CALSCALE:GREGORIAN
METHOD:PUBLISH
BEGIN:VEVENT
UID:GCBHTDH@geocaching.sk
DTSTAMP:20260425T134333Z
DTSTART:20260504T153000Z
DTEND:20260504T160000Z
SUMMARY:Tento I pondelok v mesiaci MÁJ [GCBHTDH]
DESCRIPTION:Tento I pondelok v mesiaci MÁJ\\nOrganizátor: Muslofon\\nTyp: Event Cache\\nKraj: Bratislavský kraj\\nSúradnice: N48.1397170° E17.1232170°\\n\\nhttps://coord.info/GCBHTDH
LOCATION:Bratislavský kraj
GEO:48.1397170;17.1232170
URL:https://coord.info/GCBHTDH
STATUS:CONFIRMED
CATEGORIES:Geocaching,Event
END:VEVENT
END:VCALENDAR
