BEGIN:VCALENDAR
VERSION:2.0
PRODID:-//geocaching.sk//GCEVENTS//SK
CALSCALE:GREGORIAN
METHOD:PUBLISH
BEGIN:VEVENT
UID:GCBHGY6@geocaching.sk
DTSTAMP:20260425T134614Z
DTSTART:20260516T170000Z
DTEND:20260516T180000Z
SUMMARY:Stredoslovenské večerné stretnutie [GCBHGY6]
DESCRIPTION:Stredoslovenské večerné stretnutie\\nOrganizátor: kubluck\\nTyp: Event Cache\\nKraj: Banskobystrický kraj\\nSúradnice: N48.5928670° E19.1362000°\\n\\nhttps://coord.info/GCBHGY6
LOCATION:Banskobystrický kraj
GEO:48.5928670;19.1362000
URL:https://coord.info/GCBHGY6
STATUS:CONFIRMED
CATEGORIES:Geocaching,Event
END:VEVENT
END:VCALENDAR
