BEGIN:VCALENDAR
VERSION:2.0
PRODID:-//geocaching.sk//GCEVENTS//SK
CALSCALE:GREGORIAN
METHOD:PUBLISH
BEGIN:VEVENT
UID:GCBHFA1@geocaching.sk
DTSTAMP:20260425T134544Z
DTSTART:20260427T144500Z
DTEND:20260427T151500Z
SUMMARY:Tento IV pondelok v mesiaci APRÍL [GCBHFA1]
DESCRIPTION:Tento IV pondelok v mesiaci APRÍL\\nOrganizátor: Muslofon\\nTyp: Event Cache\\nKraj: Bratislavský kraj\\nSúradnice: N48.1498830° E17.1197500°\\n\\nhttps://coord.info/GCBHFA1
LOCATION:Bratislavský kraj
GEO:48.1498830;17.1197500
URL:https://coord.info/GCBHFA1
STATUS:CONFIRMED
CATEGORIES:Geocaching,Event
END:VEVENT
END:VCALENDAR
