BEGIN:VCALENDAR
VERSION:2.0
PRODID:-//geocaching.sk//GCEVENTS//SK
CALSCALE:GREGORIAN
METHOD:PUBLISH
BEGIN:VEVENT
UID:GCBBBPC@geocaching.sk
DTSTAMP:20260425T121717Z
DTSTART:20260425T113000Z
DTEND:20260425T120000Z
SUMMARY:Cestami hrdinov SNP #8: Ostrý Kameň / Záruby [GCBBBPC]
DESCRIPTION:Cestami hrdinov SNP #8: Ostrý Kameň / Záruby\\nOrganizátor: branio\\nTyp: Event Cache\\nKraj: Trnavský kraj\\nSúradnice: N48.5241540° E17.3639220°\\n\\nhttps://coord.info/GCBBBPC
LOCATION:Trnavský kraj
GEO:48.5241540;17.3639220
URL:https://coord.info/GCBBBPC
STATUS:CONFIRMED
CATEGORIES:Geocaching,Event
END:VEVENT
END:VCALENDAR
