BEGIN:VCALENDAR
VERSION:2.0
PRODID:-//geocaching.sk//GCEVENTS//SK
CALSCALE:GREGORIAN
METHOD:PUBLISH
BEGIN:VEVENT
UID:GCBA5R4@geocaching.sk
DTSTAMP:20260425T153607Z
DTSTART:20260613T090000Z
DTEND:20260613T093000Z
SUMMARY:Bodka za Kremnickými vrchmi [GCBA5R4]
DESCRIPTION:Bodka za Kremnickými vrchmi\\nOrganizátor: vončo\\nTyp: Event Cache\\nKraj: Banskobystrický kraj\\nSúradnice: N48.6706000° E18.9593000°\\n\\nhttps://coord.info/GCBA5R4
LOCATION:Banskobystrický kraj
GEO:48.6706000;18.9593000
URL:https://coord.info/GCBA5R4
STATUS:CONFIRMED
CATEGORIES:Geocaching,Event
END:VEVENT
END:VCALENDAR
